BEGIN:VCALENDAR
VERSION:2.0
PRODID:-//Mint Academy - ECPv6.15.13.1//NONSGML v1.0//EN
CALSCALE:GREGORIAN
METHOD:PUBLISH
X-WR-CALNAME:Mint Academy
X-ORIGINAL-URL:https://mintacademy.reachaccele.com
X-WR-CALDESC:Events for Mint Academy
REFRESH-INTERVAL;VALUE=DURATION:PT1H
X-Robots-Tag:noindex
X-PUBLISHED-TTL:PT1H
BEGIN:VTIMEZONE
TZID:UTC
BEGIN:STANDARD
TZOFFSETFROM:+0000
TZOFFSETTO:+0000
TZNAME:UTC
DTSTART:20230101T000000
END:STANDARD
END:VTIMEZONE
BEGIN:VEVENT
DTSTART;TZID=UTC:20250123T080000
DTEND;TZID=UTC:20250123T170000
DTSTAMP:20260419T183336
CREATED:20250401T061330Z
LAST-MODIFIED:20250401T073349Z
UID:4876-1737619200-1737651600@mintacademy.reachaccele.com
SUMMARY:Mint Academy’s Successful Beauty & Makeup Event at Nirma University\, Ahmedabad!
DESCRIPTION:Mint Academy had an incredible time at Nirma University\, Ahmedabad\, where we showcased the world of professional makeup artistry\, cosmetology\, and beautician training to aspiring beauty enthusiasts!\n\nFrom live demos to expert insights on makeup courses\, beauty parlour training\, and cosmetology programs\, attendees got a hands-on experience of what it takes to become a certified makeup artist and beauty professional. Our interactive sessions covered everything from makeup techniques and hairstyling to skincare and beauty therapy\, giving students a glimpse into the exciting opportunities in the beauty industry.\n\nThe enthusiasm and passion we witnessed were truly inspiring! If you missed this event\, don’t worry—stay tuned for more exciting beauty and makeup events. Whether you’re looking for makeup classes\, a beautician course near you\, or a professional makeup artist certification\, Mint Academy is here to help you turn your passion into a career!
URL:https://mintacademy.reachaccele.com/event/mint-academys-successful-beauty-makeup-event-at-nirma-university-ahmedabad/
ATTACH;FMTTYPE=image/jpeg:https://mintacademy.reachaccele.com/wp-content/uploads/2025/04/nirma.jpeg
END:VEVENT
BEGIN:VEVENT
DTSTART;TZID=UTC:20250108T100000
DTEND;TZID=UTC:20250108T160000
DTSTAMP:20260419T183336
CREATED:20250401T063607Z
LAST-MODIFIED:20250401T063917Z
UID:4878-1736330400-1736352000@mintacademy.reachaccele.com
SUMMARY:Mint Academy Elevates Beauty at Exclusive Celebrity Event
DESCRIPTION:Mint Academy had the honor of showcasing its expertise at a prestigious celebrity event\, bringing the best of makeup artistry\, hairstyling\, and beauty transformations to the spotlight. Our skilled team of professionals\, trained through makeup artist courses\, beauty parlour training\, and cosmetology programs\, delivered flawless looks that enhanced the glamour of the occasion. \nThis event was a testament to the high standards of training at Mint Academy\, where students gain hands-on experience with real-world makeup techniques\, hairstyling trends\, and professional beauty applications. As a leading makeup academy in Ahmedabad\, we take pride in preparing aspiring artists to work in the world of fashion\, film\, and celebrity styling. \nFrom elegant red-carpet makeup to high-fashion beauty looks\, our experts demonstrated why Mint Academy is the go-to place for makeup classes\, beautician courses\, and professional makeup artist certification. \nDream of working with celebrities? Join our beauty and cosmetology courses to gain professional skills and real-world experience.
URL:https://mintacademy.reachaccele.com/event/mint-academy-elevates-beauty-at-exclusive-celebrity-event/
ATTACH;FMTTYPE=image/jpeg:https://mintacademy.reachaccele.com/wp-content/uploads/2025/04/Celebrity-Event.jpeg
END:VEVENT
BEGIN:VEVENT
DTSTART;TZID=UTC:20240914T080000
DTEND;TZID=UTC:20240914T170000
DTSTAMP:20260419T183336
CREATED:20250401T060557Z
LAST-MODIFIED:20250401T060654Z
UID:4872-1726300800-1726333200@mintacademy.reachaccele.com
SUMMARY:Mint Academy Shines at IKFW Season 11 – A Celebration of Beauty & Glamour
DESCRIPTION:Mint Academy made a stunning mark at IKFW Season 11\, showcasing top-tier makeup artistry\, hairstyling\, and cosmetology expertise. This prestigious event provided the perfect platform to highlight the talent and skills of our students\, trained in professional makeup courses\, beauty parlour training\, and cosmetology programs. \nOur expert team brought runway-ready makeup looks to life\, proving why Mint Academy is a leading makeup academy in Ahmedabad. From flawless makeup techniques to hairstyling mastery\, we demonstrated the artistry involved in becoming a certified makeup artist. \nThis experience was a testament to the power of professional training through our makeup artist\, beauty parlour\, and beautician courses. If you dream of mastering the beauty industry\, our cosmetology courses in Ahmedabad can help you turn your passion into a thriving career. \nWant to be part of such exciting opportunities? Enroll now in our makeup and beauty courses and step into the world of glamour.
URL:https://mintacademy.reachaccele.com/event/mint-academy-shines-at-ikfw-season-11-a-celebration-of-beauty-glamour/
ATTACH;FMTTYPE=image/jpeg:https://mintacademy.reachaccele.com/wp-content/uploads/2025/04/IKFW-Season-11.jpg
END:VEVENT
END:VCALENDAR